Workbook

Sheet TSRES
B1: ECW - Approved Timesheet Details by Resource
B3: Period From: | C3: 202302
B4: Period To: | C4: 202501
B5: Start Year | C5: 2023
B6: Next Year | C6: 2024
B7: Report created by: | C7: 100651
C8: Mr Dimitar Tasev
B10: Report generated on: | C10: =TODAY() -> 45883
B12: Project | C12: Project Name | D12: =C3 -> 202302 | E12: =IF(ISNUMBER(D12),IF(INT(RIGHT(D12,2))=12,(((INT(LEFT(D12,4))+1)*100)+1),D12+1),"") -> 202303 | F12: =IF(ISNUMBER(E12),IF(INT(RIGHT(E12,2))=12,(((INT(LEFT(E12,4))+1)*100)+1),E12+1),"") -> 202304 | G12: =IF(ISNUMBER(F12),IF(INT(RIGHT(F12,2))=12,(((INT(LEFT(F12,4))+1)*100)+1),F12+1),"") -> 202305 | H12: =IF(ISNUMBER(G12),IF(INT(RIGHT(G12,2))=12,(((INT(LEFT(G12,4))+1)*100)+1),G12+1),"") -> 202306 | I12: =IF(ISNUMBER(H12),IF(INT(RIGHT(H12,2))=12,(((INT(LEFT(H12,4))+1)*100)+1),H12+1),"") -> 202307 | J12: =IF(ISNUMBER(I12),IF(INT(RIGHT(I12,2))=12,(((INT(LEFT(I12,4))+1)*100)+1),I12+1),"") -> 202308 | K12: =IF(ISNUMBER(J12),IF(INT(RIGHT(J12,2))=12,(((INT(LEFT(J12,4))+1)*100)+1),J12+1),"") -> 202309 | L12: =IF(ISNUMBER(K12),IF(INT(RIGHT(K12,2))=12,(((INT(LEFT(K12,4))+1)*100)+1),K12+1),"") -> 202310 | ... AY12: =IF(ISNUMBER(AX12),IF(INT(RIGHT(AX12,2))=12,(((INT(LEFT(AX12,4))+1)*100)+1),AX12+1),"") -> 202701 | AZ12: Total Hours
B13: EFP0317 | C13: EDERA | D13: =SUMIFS('Raw Timesheet Data'!$Z:$Z,'Raw Timesheet Data'!$J:$J,D$12,'Raw Timesheet Data'!$C:$C,$B13) -> 0 | E13: =SUMIFS('Raw Timesheet Data'!$Z:$Z,'Raw Timesheet Data'!$J:$J,E$12,'Raw Timesheet Data'!$C:$C,$B13) -> 0 | F13: =SUMIFS('Raw Timesheet Data'!$Z:$Z,'Raw Timesheet Data'!$J:$J,F$12,'Raw Timesheet Data'!$C:$C,$B13) -> 0 | G13: =SUMIFS('Raw Timesheet Data'!$Z:$Z,'Raw Timesheet Data'!$J:$J,G$12,'Raw Timesheet Data'!$C:$C,$B13) -> 0 | H13: =SUMIFS('Raw Timesheet Data'!$Z:$Z,'Raw Timesheet Data'!$J:$J,H$12,'Raw Timesheet Data'!$C:$C,$B13) -> 0 | I13: =SUMIFS('Raw Timesheet Data'!$Z:$Z,'Raw Timesheet Data'!$J:$J,I$12,'Raw Timesheet Data'!$C:$C,$B13) -> 0 | J13: =SUMIFS('Raw Timesheet Data'!$Z:$Z,'Raw Timesheet Data'!$J:$J,J$12,'Raw Timesheet Data'!$C:$C,$B13) -> 0 | K13: =SUMIFS('Raw Timesheet Data'!$Z:$Z,'Raw Timesheet Data'!$J:$J,K$12,'Raw Timesheet Data'!$C:$C,$B13) -> 36 | ... AA13: =SUMIFS('Raw Timesheet Data'!$Z:$Z,'Raw Timesheet Data'!$J:$J,AA$12,'Raw Timesheet Data'!$C:$C,$B13) -> 0 | AB13: 0 | AC13: 0 | AD13: 0 | AE13: 0 | AF13: 0 | AG13: 0 | AH13: 0 | AI13: 0 | AJ13: 0 | AK13: 0 | AL13: 0 | AM13: 0 | AN13: 0 | AO13: 0 | AP13: 0 | AQ13: 0 | AR13: 0 | AS13: 0 | AT13: 0 | AU13: 0 | AV13: 0 | AW13: 0 | AX13: 0 | AY13: 0 | AZ13: =SUM(D13:AA13) -> 1204
B14: Total Hours recorded by Period: | D14: =SUM(D13:D13) -> 0 | E14: =SUM(E13:E13) -> 0 | F14: =SUM(F13:F13) -> 0 | G14: =SUM(G13:G13) -> 0 | H14: =SUM(H13:H13) -> 0 | I14: =SUM(I13:I13) -> 0 | J14: =SUM(J13:J13) -> 0 | K14: =SUM(K13:K13) -> 36 | ... AZ14: =SUM(AZ13:AZ13) -> 1204

Sheet Raw Timesheet Data
A1: T | B1: Time code | C1: Project | D1: Sub Project | E1: Activity | F1: Job type | G1: Charge code | H1: ResID | I1: Period type | J1: Period | K1: Cost cat. | L1: Inc.cat | M1: ACE | N1: Position | O1: Day type | P1: Rate | Q1: Rate code | R1: Costc | S1: % complete | T1: Text | U1: Trans.date | V1: Time from | W1: Time to | X1: Reg.unit | Y1: Reg.value | Z1: Hours | AA1: Inv.unit | AB1: Inv.value | AC1: Est. value | AD1: Row status | AE1: Memo | AF1: Workflow status | AG1: Flag | AH1: Distribution flag | AI1: Timesheet status | AJ1: TransNo | AK1: Updated | AL1: User | AM1: Updated | AN1: Sequence no
A2: B | B2: N | C2: EFP0317 | E2: PRJ | G2: 1877 | H2: 100651 | I2: TS | J2: 202309 | K2: GEN | L2: GEN | N2: P10326 | O2: 8HR-9AM | P2: 0 | R2: 2034 | S2: 0 | T2: EDERA | U2: 45190 | V2: 0.375 | W2: 0.70833333 | X2: H | Y2: 4 | Z2: 4 | AB2: 0 | AC2: 0 | AD2: C | AF2: T | AG2: 0 | AH2: 0 | AI2: N | AJ2: 31888 | AK2: 45258 | AL2: DTASEV01 | AM2: 45264 | AN2: 92488
A3: B | B3: N | C3: EFP0317 | E3: PRJ | G3: 1877 | H3: 100651 | I3: TS | J3: 202309 | K3: GEN | L3: GEN | N3: P10326 | O3: 8HR-9AM | P3: 0 | R3: 2034 | S3: 0 | T3: EDERA | U3: 45191 | V3: 0.375 | W3: 0.70833333 | X3: H | Y3: 4 | Z3: 4 | AB3: 0 | AC3: 0 | AD3: C | AF3: T | AG3: 0 | AH3: 0 | AI3: N | AJ3: 31888 | AK3: 45258 | AL3: DTASEV01 | AM3: 45264 | AN3: 92489
A4: B | B4: N | C4: EFP0317 | E4: PRJ | G4: 1877 | H4: 100651 | I4: TS | J4: 202309 | K4: GEN | L4: GEN | N4: P10326 | O4: 8HR-9AM | P4: 0 | R4: 2034 | S4: 0 | T4: EDERA | U4: 45194 | V4: 0.375 | W4: 0.70833333 | X4: H | Y4: 8 | Z4: 8 | AB4: 0 | AC4: 0 | AD4: C | AF4: T | AG4: 0 | AH4: 0 | AI4: N | AJ4: 31888 | AK4: 45258 | AL4: DTASEV01 | AM4: 45264 | AN4: 92490
A5: B | B5: N | C5: EFP0317 | E5: PRJ | G5: 1877 | H5: 100651 | I5: TS | J5: 202309 | K5: GEN | L5: GEN | N5: P10326 | O5: 8HR-9AM | P5: 0 | R5: 2034 | S5: 0 | T5: EDERA | U5: 45195 | V5: 0.375 | W5: 0.70833333 | X5: H | Y5: 8 | Z5: 8 | AB5: 0 | AC5: 0 | AD5: C | AF5: T | AG5: 0 | AH5: 0 | AI5: N | AJ5: 31888 | AK5: 45258 | AL5: DTASEV01 | AM5: 45264 | AN5: 92491
A6: B | B6: N | C6: EFP0317 | E6: PRJ | G6: 1877 | H6: 100651 | I6: TS | J6: 202309 | K6: GEN | L6: GEN | N6: P10326 | O6: 8HR-9AM | P6: 0 | R6: 2034 | S6: 0 | T6: EDERA | U6: 45196 | V6: 0.375 | W6: 0.70833333 | X6: H | Y6: 4 | Z6: 4 | AB6: 0 | AC6: 0 | AD6: C | AF6: T | AG6: 0 | AH6: 0 | AI6: N | AJ6: 31888 | AK6: 45258 | AL6: DTASEV01 | AM6: 45264 | AN6: 92492
A7: B | B7: N | C7: EFP0317 | E7: PRJ | G7: 1877 | H7: 100651 | I7: TS | J7: 202309 | K7: GEN | L7: GEN | N7: P10326 | O7: 8HR-9AM | P7: 0 | R7: 2034 | S7: 0 | T7: EDERA | U7: 45197 | V7: 0.375 | W7: 0.70833333 | X7: H | Y7: 4 | Z7: 4 | AB7: 0 | AC7: 0 | AD7: C | AF7: T | AG7: 0 | AH7: 0 | AI7: N | AJ7: 31888 | AK7: 45258 | AL7: DTASEV01 | AM7: 45264 | AN7: 92493
A8: B | B8: N | C8: EFP0317 | E8: PRJ | G8: 1877 | H8: 100651 | I8: TS | J8: 202309 | K8: GEN | L8: GEN | N8: P10326 | O8: 8HR-9AM | P8: 0 | R8: 2034 | S8: 0 | T8: EDERA | U8: 45198 | V8: 0.375 | W8: 0.70833333 | X8: H | Y8: 4 | Z8: 4 | AB8: 0 | AC8: 0 | AD8: C | AF8: T | AG8: 0 | AH8: 0 | AI8: N | AJ8: 31888 | AK8: 45258 | AL8: DTASEV01 | AM8: 45264 | AN8: 92494
A9: B | B9: N | C9: EFP0317 | E9: PRJ | G9: 1877 | H9: 100651 | I9: TS | J9: 202310 | K9: GEN | L9: GEN | N9: P10326 | O9: 8HR-9AM | P9: 0 | R9: 2034 | S9: 0 | T9: EDERA | U9: 45208 | V9: 0 | W9: 0 | X9: H | Y9: 8 | Z9: 8 | AB9: 0 | AC9: 0 | AD9: C | AF9: T | AG9: 0 | AH9: 0 | AI9: N | AJ9: 31889 | AK9: 45258 | AL9: DTASEV01 | AM9: 45264 | AN9: 92513
A10: B | B10: N | C10: EFP0317 | E10: PRJ | G10: 1877 | H10: 100651 | I10: TS | J10: 202310 | K10: GEN | L10: GEN | N10: P10326 | O10: 8HR-9AM | P10: 0 | R10: 2034 | S10: 0 | T10: EDERA | U10: 45209 | V10: 0 | W10: 0 | X10: H | Y10: 8 | Z10: 8 | AB10: 0 | AC10: 0 | AD10: C | AF10: T | AG10: 0 | AH10: 0 | AI10: N | AJ10: 31889 | AK10: 45258 | AL10: DTASEV01 | AM10: 45264 | AN10: 92514
A11: B | B11: N | C11: EFP0317 | E11: PRJ | G11: 1877 | H11: 100651 | I11: TS | J11: 202310 | K11: GEN | L11: GEN | N11: P10326 | O11: 8HR-9AM | P11: 0 | R11: 2034 | S11: 0 | T11: EDERA | U11: 45210 | V11: 0 | W11: 0 | X11: H | Y11: 8 | Z11: 8 | AB11: 0 | AC11: 0 | AD11: C | AF11: T | AG11: 0 | AH11: 0 | AI11: N | AJ11: 31889 | AK11: 45258 | AL11: DTASEV01 | AM11: 45264 | AN11: 92515
A12: B | B12: N | C12: EFP0317 | E12: PRJ | G12: 1877 | H12: 100651 | I12: TS | J12: 202310 | K12: GEN | L12: GEN | N12: P10326 | O12: 8HR-9AM | P12: 0 | R12: 2034 | S12: 0 | T12: EDERA | U12: 45211 | V12: 0 | W12: 0 | X12: H | Y12: 4 | Z12: 4 | AB12: 0 | AC12: 0 | AD12: C | AF12: T | AG12: 0 | AH12: 0 | AI12: N | AJ12: 31889 | AK12: 45258 | AL12: DTASEV01 | AM12: 45264 | AN12: 92516
A13: B | B13: N | C13: EFP0317 | E13: PRJ | G13: 1877 | H13: 100651 | I13: TS | J13: 202310 | K13: GEN | L13: GEN | N13: P10326 | O13: 8HR-9AM | P13: 0 | R13: 2034 | S13: 0 | T13: EDERA | U13: 45212 | V13: 0 | W13: 0 | X13: H | Y13: 4 | Z13: 4 | AB13: 0 | AC13: 0 | AD13: C | AF13: T | AG13: 0 | AH13: 0 | AI13: N | AJ13: 31889 | AK13: 45258 | AL13: DTASEV01 | AM13: 45264 | AN13: 92517
... A169: B | B169: N | C169: EFP0317 | E169: PRJ | G169: 1898 | H169: 100651 | I169: TS | J169: 202501 | K169: GEN | L169: GEN | N169: P10326 | O169: 8HR-9AM | P169: 0 | R169: 2030 | S169: 0 | T169: EDERA | U169: 45688 | V169: 0 | W169: 0 | X169: H | Y169: 0 | Z169: 0 | AB169: 0 | AC169: 0 | AD169: C | AF169: T | AG169: 0 | AH169: 0 | AI169: N | AJ169: 32977 | AK169: 45699 | AL169: DTASEV01 | AM169: 45707 | AN169: 122585

Sheet Example Approval Evidence
A1: T | B1: Process | C1: Step | D1: Task owner | E1: Workflow state(T) | F1: Period | G1: ResID | H1: ResID(T) | I1: Time code | J1: Project | K1: Sub Project | L1: Activity | M1: Hours | N1: SequenceNo
A2: B | B2: Timesheets | E2: Finished | F2: 202309 | G2: 100651 | H2: Mr Dimitar Tasev | I2: AL | J2: 9999993 | L2: COR | M2: 48 | N2: 92469
A3: B | B3: Timesheets | E3: Finished | F3: 202309 | G3: 100651 | H3: Mr Dimitar Tasev | I3: N | J3: TPA1004 | L3: PRJ | M3: 84 | N3: 92475
A4: B | B4: Timesheets | E4: Finished | F4: 202309 | G4: 100651 | H4: Mr Dimitar Tasev | I4: N | J4: EFP0317 | L4: PRJ | M4: 36 | N4: 92488
M5: 168

Sheet _options
A1: * This sheet is manipulated by the 'Options...' dialog and should not be changed by hand
A3: FALSE
A7: 60
A9: FALSE
A11: FALSE
A13: FALSE
A17: 3
A18: TRUE
A19: FALSE
A20: FALSE
